BEGIN:VCALENDAR
VERSION:2.0
PRODID:-//University of Aberdeen//NONSGML Events//EN
METHOD:PUBLISH
BEGIN:VTIMEZONE
TZID:Europe/London
BEGIN:DAYLIGHT
TZOFFSETFROM:+0000
TZOFFSETTO:+0100
DTSTART:20210328T010000
RRULE:FREQ=YEARLY;BYMONTH=3;BYDAY=-1SU
TZNAME:BST
END:DAYLIGHT
BEGIN:STANDARD
TZOFFSETFROM:+0100
TZOFFSETTO:+0000
DTSTART:20211031T020000
RRULE:FREQ=YEARLY;BYMONTH=10;BYDAY=-1SU
TZNAME:GMT
END:STANDARD
END:VTIMEZONE
BEGIN:VEVENT
UID:23743
DTSTAMP:20260422T080725Z
DTSTART;TZID=Europe/London:20260422T140000
DTEND;TZID=Europe/London:20260422T150000
LOCATION:Online (MS Teams)
SUMMARY:Crossroads in Private International Law Webinar with Prof Csongor Nagy
DESCRIPTION:EU Law and Sports Arbitration: When Global and Regional Regimes Meet Visit https://www.abdn.ac.uk/law/news-events/seminars/23743 for further details about this event.
FBTYPE:BUSY-TENTATIVE
X-MICROSOFT-CDO-BUSYSTATUS:TENTATIVE
END:VEVENT
END:VCALENDAR
