BEGIN:VCALENDAR
VERSION:2.0
PRODID:-//University of Aberdeen//NONSGML Events//EN
METHOD:PUBLISH
BEGIN:VTIMEZONE
TZID:Europe/London
BEGIN:DAYLIGHT
TZOFFSETFROM:+0000
TZOFFSETTO:+0100
DTSTART:20210328T010000
RRULE:FREQ=YEARLY;BYMONTH=3;BYDAY=-1SU
TZNAME:BST
END:DAYLIGHT
BEGIN:STANDARD
TZOFFSETFROM:+0100
TZOFFSETTO:+0000
DTSTART:20211031T020000
RRULE:FREQ=YEARLY;BYMONTH=10;BYDAY=-1SU
TZNAME:GMT
END:STANDARD
END:VTIMEZONE
BEGIN:VEVENT
UID:23776
DTSTAMP:20260424T082803Z
DTSTART;TZID=Europe/London:20260522T130000
DTEND;TZID=Europe/London:20260522T140000
LOCATION:Taylor Building A37 and MS Teams
SUMMARY:SEMINAR: Future Generations as a Legal Category: From the Non-Identity Dilemma to the Legal Definition
DESCRIPTION:Please join us for a presentation by visiting researcher Antonio Foti, PhD candidate at the University of Milan. Antonio will deliver a paper based on the research he has been carrying out at Aberdeen (hosted by the Centre for Constitutional and Public International Law), followed by a Q&amp;A session.&nbsp;

&lsquo;Future Generations as a Legal Category:&nbsp;From the Non-Identity Dilemma to the Legal Definition&rsquo;

The contemporary era has radically transformed the relationship between time, law, and collective responsibility: for the first time in history, the present generation can irreversibly compromise the living conditions of those who will come after us. This brings about a &ldquo;reversal of Kantian thought&rdquo;: future generations are no longer destined to inherit an improved legacy, but risk finding themselves at a disadvantage as a result of our current choices. The law, however, is designed to operate in the present and on specific individuals. Future generations do not yet exist, are not identifiable, and do not participate in decision-making processes. This gives rise to the central tension of the paper: how can the law attribute significance to future entities without violating its own theoretical premises? To address this challenge, this work first analyzes Parfit&rsquo;s Non-Identity dilemma, which shows how future persons depend entirely on present choices, making it difficult to speak of harm or liability. Subsequently, the main moral theories &ndash; utilitarianism, egalitarianism, sufficientism, libertarianism, communitarism, contractualism, and institutionalism &ndash; are examined, all of which attempt to establish intergenerational justice despite this dilemma. This theoretical path leads to the analyze&rsquo;s central objective: to construct a legal definition of &ldquo;future generations&rdquo;. Not as subjects of law in an antropological and ontological sense, but as a functional legal category &ndash; abstract and non-individualized &ndash; that allows the legal system to represent future interests and to orient public action toward the long term. In this way, the law can integrate the future into its own rationality without resorting to subjective fictions, but through a conceptual framework consistent with its own fundamental categories.

&nbsp; Visit https://www.abdn.ac.uk/events/23776 for further details about this event.
FBTYPE:BUSY-TENTATIVE
X-MICROSOFT-CDO-BUSYSTATUS:TENTATIVE
END:VEVENT
END:VCALENDAR
