BEGIN:VCALENDAR
VERSION:2.0
PRODID:-//University of Aberdeen//NONSGML Events//EN
METHOD:PUBLISH
BEGIN:VTIMEZONE
TZID:Europe/London
BEGIN:DAYLIGHT
TZOFFSETFROM:+0000
TZOFFSETTO:+0100
DTSTART:20210328T010000
RRULE:FREQ=YEARLY;BYMONTH=3;BYDAY=-1SU
TZNAME:BST
END:DAYLIGHT
BEGIN:STANDARD
TZOFFSETFROM:+0100
TZOFFSETTO:+0000
DTSTART:20211031T020000
RRULE:FREQ=YEARLY;BYMONTH=10;BYDAY=-1SU
TZNAME:GMT
END:STANDARD
END:VTIMEZONE
BEGIN:VEVENT
UID:23749
DTSTAMP:20260419T172742Z
DTSTART;TZID=Europe/London:20260513T190000
DTEND;TZID=Europe/London:20260513T200000
LOCATION:Aberdeen Art Gallery
SUMMARY:Café Sci  - The Role that Geoscience Plays in Energy Transition
DESCRIPTION:Join us for our May Café Sci where Professor John Underhill will discuss how geoscience is helping society tackle the challenges and offers solutions that shape the path towards a more sustainable and resilient energy future. Visit https://www.abdn.ac.uk/events/23749 for further details about this event.
FBTYPE:BUSY-TENTATIVE
X-MICROSOFT-CDO-BUSYSTATUS:TENTATIVE
END:VEVENT
END:VCALENDAR
