BEGIN:VCALENDAR
VERSION:2.0
PRODID:-//University of Aberdeen//NONSGML Events//EN
METHOD:PUBLISH
BEGIN:VTIMEZONE
TZID:Europe/London
BEGIN:DAYLIGHT
TZOFFSETFROM:+0000
TZOFFSETTO:+0100
DTSTART:20210328T010000
RRULE:FREQ=YEARLY;BYMONTH=3;BYDAY=-1SU
TZNAME:BST
END:DAYLIGHT
BEGIN:STANDARD
TZOFFSETFROM:+0100
TZOFFSETTO:+0000
DTSTART:20211031T020000
RRULE:FREQ=YEARLY;BYMONTH=10;BYDAY=-1SU
TZNAME:GMT
END:STANDARD
END:VTIMEZONE
BEGIN:VEVENT
UID:23071
DTSTAMP:20260419T172742Z
DTSTART;TZID=Europe/London:20260527T173000
DTEND;TZID=Europe/London:20260527T193000
LOCATION:The Sir Duncan Rice Library, Floor 7, Craig Suite
SUMMARY:David Buchan Lecture: Connecting People, Connecting Culture
DESCRIPTION:This annual David Buchan Lecture has been rescheduled from 4 December 2025 to Wednesday, 27 May 2026 Visit https://www.abdn.ac.uk/events/23071 for further details about this event.
FBTYPE:BUSY-TENTATIVE
X-MICROSOFT-CDO-BUSYSTATUS:TENTATIVE
END:VEVENT
END:VCALENDAR
