BEGIN:VCALENDAR
VERSION:2.0
PRODID:-//University of Aberdeen//NONSGML Events//EN
METHOD:PUBLISH
BEGIN:VTIMEZONE
TZID:Europe/London
BEGIN:DAYLIGHT
TZOFFSETFROM:+0000
TZOFFSETTO:+0100
DTSTART:20210328T010000
RRULE:FREQ=YEARLY;BYMONTH=3;BYDAY=-1SU
TZNAME:BST
END:DAYLIGHT
BEGIN:STANDARD
TZOFFSETFROM:+0100
TZOFFSETTO:+0000
DTSTART:20211031T020000
RRULE:FREQ=YEARLY;BYMONTH=10;BYDAY=-1SU
TZNAME:GMT
END:STANDARD
END:VTIMEZONE
BEGIN:VEVENT
UID:23831
DTSTAMP:20260424T034831Z
DTSTART;TZID=Europe/London:20260503T130000
DTEND;TZID=Europe/London:20260503T150000

SUMMARY:Hong Kong Alumni Lunch
DESCRIPTION:Join an alumni lunch organised by&nbsp;Aberdeen University Hong Kong Alumni Association (AUHKA) with Professor Graeme Paton, Head of School Biological Sciences, and Melanie McCann, School Administration Manager for the School of Biological Sciences, in Hong Kong&nbsp;on&nbsp;Sunday 3 May&nbsp;from 1pm-3pm.

This special gathering offers the perfect opportunity to reconnect with old friends, meet new faces and reminisce about shared memories.

Please note that those attending will be responsible for purchasing their own food and refreshments.&nbsp;

The location for this event will be confirmed shortly and those attending will be updated.

If you would like to attend please register below. Visit https://www.abdn.ac.uk/alumni/events-reunions/events/23831 for further details about this event.
FBTYPE:BUSY-TENTATIVE
X-MICROSOFT-CDO-BUSYSTATUS:TENTATIVE
END:VEVENT
END:VCALENDAR
