BEGIN:VCALENDAR
VERSION:2.0
PRODID:-//University of Aberdeen//NONSGML Events//EN
METHOD:PUBLISH
BEGIN:VTIMEZONE
TZID:Europe/London
BEGIN:DAYLIGHT
TZOFFSETFROM:+0000
TZOFFSETTO:+0100
DTSTART:20210328T010000
RRULE:FREQ=YEARLY;BYMONTH=3;BYDAY=-1SU
TZNAME:BST
END:DAYLIGHT
BEGIN:STANDARD
TZOFFSETFROM:+0100
TZOFFSETTO:+0000
DTSTART:20211031T020000
RRULE:FREQ=YEARLY;BYMONTH=10;BYDAY=-1SU
TZNAME:GMT
END:STANDARD
END:VTIMEZONE
BEGIN:VEVENT
UID:23829
DTSTAMP:20260424T034739Z
DTSTART;TZID=Europe/London:20260520T183000
DTEND;TZID=Europe/London:20260520T203000
LOCATION:Fuoco Vivo
SUMMARY:Amsterdam Alumni Dinner
DESCRIPTION:Join alumni in&nbsp;Amsterdam&nbsp;for an informal gathering from&nbsp;6.30pm&nbsp;on Wednesday 20 May&nbsp;at&nbsp;Fuoco Vivo,&nbsp;De Clercqstraat 12, 1052 NC Amsterdam, Netherlands.

You are welcome to join for drinks, lighter bites or a full dinner&nbsp;depending on preference.

This will be a relaxed opportunity to connect with fellow alumni over good food and conversation.

Please note that those attending will be responsible for purchasing their own refreshments.

If you would like to attend please register below. Visit https://www.abdn.ac.uk/alumni/events-reunions/events/23829 for further details about this event.
FBTYPE:BUSY-TENTATIVE
X-MICROSOFT-CDO-BUSYSTATUS:TENTATIVE
END:VEVENT
END:VCALENDAR
